BEGIN:VCALENDAR
VERSION:2.0
PRODID:-//wp-events-plugin.com//7.2.3.1//EN
TZID:Europe/Berlin
X-WR-TIMEZONE:Europe/Berlin
BEGIN:VEVENT
UID:295@fsbhildesheim.de
DTSTART;TZID=Europe/Berlin:20240121T110000
DTEND;TZID=Europe/Berlin:20240121T110000
DTSTAMP:20231203T140318Z
URL:https://www.fsbhildesheim.de/events/winterliches-braunkohlessen/
SUMMARY:Winterliches Braunkohlessen
DESCRIPTION:Liebe Mitglieder/innen\,\n\nAm Sonntag\, den 21.01.2024 wird in
  der Tenne Braunkohl mit allem\, was dazu gehört angeboten!\n\nBevor wir 
 den Braunkohl genießen\, treffen wir uns am 21.01.2024 um 11 Uhr auf dem 
 FSB-Gelände zu einer kleinen Wanderung von etwa 5 Kilometer und werden da
 nn um 12:30 Uhr wieder auf dem Gelände eintreffen.\n\nWer nicht so gut zu
  Fuß ist\, kann auch mit dem PKW zum Gelände kommen\, ab 13 Uhr gibt es 
 Braunkohl in der Tenne.\n\nDa wir in der Tenne keine Großküche haben mö
 chten wir die Teilnehmerzahl auf 50 Personen begrenzen.\n\nBitte meldet eu
 ch bis zum 02.01.2024 bei mir verbindlich per Telefon oder Mail an. Zur be
 sseren Planung müssen wir auch wissen\, ob ihr geräucherte Bregenwurst o
 der frische Bregenwurst möchtet.\n\nViele Grüße\,\nHellmut
CATEGORIES:Alle
LOCATION:FSB Hildesheim\, Tenne\, \, 
X-APPLE-STRUCTURED-LOCATION;VALUE=URI;X-ADDRESS=\, ;X-APPLE-RADIUS=100;X-TI
 TLE=FSB Hildesheim\, Tenne:geo:0,0
END:VEVENT
BEGIN:VTIMEZONE
TZID:Europe/Berlin
X-LIC-LOCATION:Europe/Berlin
BEGIN:STANDARD
DTSTART:20231029T020000
TZOFFSETFROM:+0200
TZOFFSETTO:+0100
TZNAME:CET
END:STANDARD
END:VTIMEZONE
END:VCALENDAR