BEGIN:VCALENDAR
VERSION:2.0
PRODID:-//wp-events-plugin.com//7.2.3.1//EN
TZID:Europe/Berlin
X-WR-TIMEZONE:Europe/Berlin
BEGIN:VEVENT
UID:318@fsbhildesheim.de
DTSTART;TZID=Europe/Berlin:20250119T110000
DTEND;TZID=Europe/Berlin:20250119T110000
DTSTAMP:20241202T175046Z
URL:https://www.fsbhildesheim.de/events/winterliches-braunkohlessen-2/
SUMMARY:Winterliches Braunkohlessen
DESCRIPTION:Am Sonntag\, dem 19.01.2025 wird in der Tenne Braunkohl mit all
 em\, was dazu gehört\, zum Preis von 17\,50 € pro Person\, angeboten.\n
 \nZur besseren Planung müssen wir auch wissen\, ob ihr geräucherte Brege
 nwurst oder frische\nBregenwurst möchtet.\n\nBevor wir den Braunkohl geni
 eßen\, treffen wir uns am 19.01.2025 um 11 Uhr auf dem FSB-\nGelände zu 
 einer kleinen Wanderung von etwa 5 Kilometer und werden dann um 12:30 Uhr\
 nwieder auf dem Gelände eintreffen.\n\nWer nicht so gut zu Fuß ist\, kan
 n auch mit dem PKW zum Gelände kommen\, ab 13 Uhr gibt\nes Braunkohl in d
 er Tenne.\n\nBitte meldet euch bis zum 02.01.2025 bei mir verbindlich an u
 nd überweist den Betrag\nvon 17\,50 € pro Person.\n\nHellmut Fritz\nBLZ
 : DE34 2595 0130 0027 0594 90\nVerwendungszweck: Braunkohlessen.\n\nGruß 
 Hellmut.\nhellmut.fritz@t-online.de\nHandy: 01639635378
CATEGORIES:Mitglieder,Tenne
LOCATION:FSB Hildesheim\, Tenne\, \, 
X-APPLE-STRUCTURED-LOCATION;VALUE=URI;X-ADDRESS=\, ;X-APPLE-RADIUS=100;X-TI
 TLE=FSB Hildesheim\, Tenne:geo:0,0
END:VEVENT
BEGIN:VTIMEZONE
TZID:Europe/Berlin
X-LIC-LOCATION:Europe/Berlin
BEGIN:STANDARD
DTSTART:20241027T020000
TZOFFSETFROM:+0200
TZOFFSETTO:+0100
TZNAME:CET
END:STANDARD
END:VTIMEZONE
END:VCALENDAR