BEGIN:VCALENDAR
VERSION:2.0
PRODID:-//wp-events-plugin.com//7.2.3.1//EN
TZID:Europe/Berlin
X-WR-TIMEZONE:Europe/Berlin
BEGIN:VEVENT
UID:248@fsbhildesheim.de
DTSTART;TZID=Europe/Berlin:20230701T140000
DTEND;TZID=Europe/Berlin:20230701T140000
DTSTAMP:20230131T182933Z
URL:https://www.fsbhildesheim.de/events/unser-fsb-gelaende-wird-50-jahre/
SUMMARY:Unser FSB Gelände wird 50 Jahre!
DESCRIPTION:Liebe FSBler\, klein und groß\,\n\nWer die Gemeinschaft in uns
 erem FSB kennt\, weiß: Feiern können wir!\n\nAber könnt ihr euch auch a
 n die Zeit vor Corona erinnern\, wann wir das letzte mal so richtig gefeie
 rt haben? Nein? Wir auch nicht!\n\nDaher: Lasst uns gemeinsam feiern! Es g
 ibt sogar einen echten Anlass:\n\nUnser FSB Gelände wird 50 Jahre!\n\nWir
  denken\, dass ist ein Anlass zum Feiern. Wir haben uns daher zusammengefu
 nden\, um diese Feier vorzubereiten und mit euch allen gemeinsam am 01. Ju
 li 2023 ab 14:00 Uhr einen tollen Geburtstag zu feiern.\n\nWas erwartet eu
 ch?\n\n 	Informationen zum Werdegang unseres Geländes\n 	Spiel\, Spaß\, 
 Spannung für die kleinen und auch für die großen\n 	Kaffee und Kuchen a
 m Nachmittag\n 	Kulinarische Köstlichkeiten am Abend\n 	Bei launiger Musi
 k aus den vergangenen Jahrzehnten wieder das Tanzbein schwingen\n\nSeit ih
 r dabei? Dann meldet euch bitte verbindlich bis zum 10. März 2023 per E-M
 ail an:\n\nanmeldung@fsbhildesheim.de\n\nBetreff: Gelände 50\n\nEintritt:
  20 € pro Person\, Kinder bis 12 Jahre in Begleitung eines Erwachsenes f
 rei
CATEGORIES:Mitglieder
LOCATION:FSB Hildesheim\, Tenne\, \, 
X-APPLE-STRUCTURED-LOCATION;VALUE=URI;X-ADDRESS=\, ;X-APPLE-RADIUS=100;X-TI
 TLE=FSB Hildesheim\, Tenne:geo:0,0
END:VEVENT
BEGIN:VTIMEZONE
TZID:Europe/Berlin
X-LIC-LOCATION:Europe/Berlin
BEGIN:DAYLIGHT
DTSTART:20230326T030000
TZOFFSETFROM:+0100
TZOFFSETTO:+0200
TZNAME:CEST
END:DAYLIGHT
END:VTIMEZONE
END:VCALENDAR