BEGIN:VCALENDAR
VERSION:2.0
PRODID:-//wp-events-plugin.com//7.2.3.1//EN
TZID:Europe/Berlin
X-WR-TIMEZONE:Europe/Berlin
BEGIN:VEVENT
UID:331@fsbhildesheim.de
DTSTART;TZID=Europe/Berlin:20250503T110000
DTEND;TZID=Europe/Berlin:20250503T110000
DTSTAMP:20250301T105248Z
URL:https://www.fsbhildesheim.de/events/tag-der-offenen-tuer/
SUMMARY:Tag der offenen Tür
DESCRIPTION:Liebe Mitglieder\,\n\nim vergangenen Jahr haben wir viele neue 
 Mitglieder in unserem FSB begrüßen können.\n\nUm diesen Trend zu unters
 tützen\, möchten wir am Samstag\, den 03.05.2025 einen Tag der offenen T
 ür veranstalten. Hier möchten wir allen Mitgliedern die Gelegenheit biet
 en\, Freunden\, Bekannten\, Nachbarn und Verwandten unser schönes Geländ
 e zu zeigen.\n\nWir beginnen um 11:00 Uhr mit einem Flohmarkt. Jeder\, der
  gebrauchsfähige\, nützliche und schöne Dinge übrighat und in „gute 
 Hände“ abgeben möchte\, kann diese vor seinem Vorzelt (oder gemeinsam 
 im Kreis) anbieten. Mitglieder ohne Stellplatz\, können sich gern in eine
 m Kreis ein Plätzchen für ihre „Schätzchen“ zum Verkauf aussuchen.\
 n\nDamit wollen wir allen Mitgliedern auch die Gelegenheit geben\, sich un
 tereinander besser kennenzulernen.\n\nUm 14:30 Uhr findet auf der Terrasse
  ein gemütliches Kaffeetrinken (mit Kuchen) statt.\n\nAb 17:30 Uhr wird d
 er Grill angefeuert und ab 19:00 Uhr kann in der Tenne das Tanzbein geschw
 ungen werden.\n\nBezüglich des Flohmarktes und der zu verkaufenden Sachen
  denkt bitte daran\, dass der Transport mit dem PKW auf dem Parkplatz ende
 t.\n\nViele Grüße vom Harald
CATEGORIES:Gelände,Mitglieder,Tenne
LOCATION:FSB Hildesheim\, Rottsberg 1\, Hildesheim\, Niedersachsen\, 31139\
 , Deutschland
GEO:52.14286999999999;9.905330000000049
X-APPLE-STRUCTURED-LOCATION;VALUE=URI;X-ADDRESS=Rottsberg 1\, Hildesheim\, 
 Niedersachsen\, 31139\, Deutschland;X-APPLE-RADIUS=100;X-TITLE=FSB Hildesh
 eim:geo:52.14286999999999,9.905330000000049
END:VEVENT
BEGIN:VTIMEZONE
TZID:Europe/Berlin
X-LIC-LOCATION:Europe/Berlin
BEGIN:DAYLIGHT
DTSTART:20250330T030000
TZOFFSETFROM:+0100
TZOFFSETTO:+0200
TZNAME:CEST
END:DAYLIGHT
END:VTIMEZONE
END:VCALENDAR