BEGIN:VCALENDAR
VERSION:2.0
PRODID:-//wp-events-plugin.com//7.2.3.1//EN
TZID:Europe/Berlin
X-WR-TIMEZONE:Europe/Berlin
BEGIN:VEVENT
UID:303@fsbhildesheim.de
DTSTART;TZID=Europe/Berlin:20240803T140000
DTEND;TZID=Europe/Berlin:20240803T140000
DTSTAMP:20240725T181041Z
URL:https://www.fsbhildesheim.de/events/stockbrot-und-lagerfeuer/
SUMMARY:Stockbrot und Lagerfeuer
DESCRIPTION:Stockbrot und Lagerfeuer für alle mit anschließender Nachtwan
 derung\n\nUm 14 Uhr treffen wir uns am Sauna-Hof. Dort werden die Stöcke 
 für das Stockbrot geschnitzt.\n\nUm 18 Uhr bereiten wir das feuer auf der
  Faustballwiese vor. Falls das Wetter nicht mitspielt\, treffen wir uns an
  einem anderen Ort.\n\nIch bitte unter jugend@fsbhildesheim.de um Anmeldun
 gen bis zum 31.07.2024.\nIch freue mich.\nPetra\nJugendwartin
CATEGORIES:Gelände,Jugend
LOCATION:FSB Hildesheim\, Rottsberg 1\, Hildesheim\, Niedersachsen\, 31139\
 , Deutschland
GEO:52.14286999999999;9.905330000000049
X-APPLE-STRUCTURED-LOCATION;VALUE=URI;X-ADDRESS=Rottsberg 1\, Hildesheim\, 
 Niedersachsen\, 31139\, Deutschland;X-APPLE-RADIUS=100;X-TITLE=FSB Hildesh
 eim:geo:52.14286999999999,9.905330000000049
END:VEVENT
BEGIN:VTIMEZONE
TZID:Europe/Berlin
X-LIC-LOCATION:Europe/Berlin
BEGIN:DAYLIGHT
DTSTART:20240331T030000
TZOFFSETFROM:+0100
TZOFFSETTO:+0200
TZNAME:CEST
END:DAYLIGHT
END:VTIMEZONE
END:VCALENDAR