BEGIN:VCALENDAR
VERSION:2.0
PRODID:-//wp-events-plugin.com//7.2.3.1//EN
TZID:Europe/Berlin
X-WR-TIMEZONE:Europe/Berlin
BEGIN:VEVENT
UID:292@fsbhildesheim.de
DTSTART;TZID=Europe/Berlin:20240825T073000
DTEND;TZID=Europe/Berlin:20240825T073000
DTSTAMP:20231101T174411Z
URL:https://www.fsbhildesheim.de/events/sportabzeichen-radfahren-7/
SUMMARY:Sportabzeichen Radfahren
DESCRIPTION:Hallo liebe Sportler und Sportlerinnen im FSB. Hier kommen die 
 Radfahrtermine für das Sportabzeichen in 2024:\n\n26.5. / 9.6. / 14.7. / 
 25.8. / 8.9.24.\n\nBitte merkt euch diese Möglichkeiten nach Bedarf schon
  jetzt im Kalender 2024.\n\nGefahren wird auf der VfV- Radrennbahn.\n\nWir
  treffen uns um 7.30 Uhr. Die 200 m Strecke wird ab 7.45 Uhr abgenommen.\n
 Die 20 km starten genau 8.00 Uhr an den angegebenen Terminen.\n\nBei Frage
 n bitte melden\, telefonisch oder per WhatsApp.\nEs grüßt Kurt
CATEGORIES:Sportabzeichen
LOCATION:VfV Borussia 06\, Lucienvörder Allee 3\, Hildesheim\, 31139\, Deu
 tschland
X-APPLE-STRUCTURED-LOCATION;VALUE=URI;X-ADDRESS=Lucienvörder Allee 3\, Hil
 desheim\, 31139\, Deutschland;X-APPLE-RADIUS=100;X-TITLE=VfV Borussia 06:g
 eo:0,0
END:VEVENT
BEGIN:VTIMEZONE
TZID:Europe/Berlin
X-LIC-LOCATION:Europe/Berlin
BEGIN:DAYLIGHT
DTSTART:20240331T030000
TZOFFSETFROM:+0100
TZOFFSETTO:+0200
TZNAME:CEST
END:DAYLIGHT
END:VTIMEZONE
END:VCALENDAR