BEGIN:VCALENDAR
VERSION:2.0
PRODID:-//wp-events-plugin.com//7.2.3.1//EN
TZID:Europe/Berlin
X-WR-TIMEZONE:Europe/Berlin
BEGIN:VEVENT
UID:329@fsbhildesheim.de
DTSTART;TZID=Europe/Berlin:20250405T150000
DTEND;TZID=Europe/Berlin:20250405T180000
DTSTAMP:20250318T193503Z
URL:https://www.fsbhildesheim.de/events/sport-und-spiel/
SUMMARY:Sport und Spiel
DESCRIPTION:Liebe Mitglieder\,\n\nLeider muss ich den angekündigten Bretts
 pielnachmittag am 05.04.2025 aus gesundheitlichen Gründen absagen.\nNäch
 ster Anlauf folgt in der 2. Jahreshälfte!\n\nLiebe Grüße\nMartina Kesti
 ng\n\n
CATEGORIES:Mitglieder,Tenne
LOCATION:FSB Hildesheim\, Tenne\, \, 
X-APPLE-STRUCTURED-LOCATION;VALUE=URI;X-ADDRESS=\, ;X-APPLE-RADIUS=100;X-TI
 TLE=FSB Hildesheim\, Tenne:geo:0,0
END:VEVENT
BEGIN:VTIMEZONE
TZID:Europe/Berlin
X-LIC-LOCATION:Europe/Berlin
BEGIN:DAYLIGHT
DTSTART:20250330T030000
TZOFFSETFROM:+0100
TZOFFSETTO:+0200
TZNAME:CEST
END:DAYLIGHT
END:VTIMEZONE
END:VCALENDAR