BEGIN:VCALENDAR
VERSION:2.0
PRODID:-//wp-events-plugin.com//7.2.3.1//EN
TZID:Europe/Berlin
X-WR-TIMEZONE:Europe/Berlin
BEGIN:VEVENT
UID:330@fsbhildesheim.de
DTSTART;TZID=Europe/Berlin;VALUE=DATE:20250524
DTEND;TZID=Europe/Berlin;VALUE=DATE:20250525
DTSTAMP:20250208T144748Z
URL:https://www.fsbhildesheim.de/events/sport-und-spiel-2/
SUMMARY:Sport und Spiel
DESCRIPTION:Am 24.05.2025 FSB Sport- und Spieltag\nAnmeldung erforderlich.\
 nAuch hier steht das Miteinander im Vordergrund.\nGeplant ist eine Vielzah
 l von Geschicklichkeits- und Teamspielen\, bei denen von KLEIN bis GROSS a
 lle mitmachen können. Vorkenntnisse oder körperliche Fitness sind nicht 
 erforderlich.\nAnkündigung erfolgt per Newsletter.
CATEGORIES:Mitglieder
LOCATION:FSB Hildesheim\, Rottsberg 1\, Hildesheim\, Niedersachsen\, 31139\
 , Deutschland
GEO:52.14286999999999;9.905330000000049
X-APPLE-STRUCTURED-LOCATION;VALUE=URI;X-ADDRESS=Rottsberg 1\, Hildesheim\, 
 Niedersachsen\, 31139\, Deutschland;X-APPLE-RADIUS=100;X-TITLE=FSB Hildesh
 eim:geo:52.14286999999999,9.905330000000049
END:VEVENT
BEGIN:VTIMEZONE
TZID:Europe/Berlin
X-LIC-LOCATION:Europe/Berlin
BEGIN:DAYLIGHT
DTSTART:20250330T030000
TZOFFSETFROM:+0100
TZOFFSETTO:+0200
TZNAME:CEST
END:DAYLIGHT
END:VTIMEZONE
END:VCALENDAR