BEGIN:VCALENDAR
VERSION:2.0
PRODID:-//wp-events-plugin.com//7.2.3.1//EN
TZID:Europe/Berlin
X-WR-TIMEZONE:Europe/Berlin
BEGIN:VEVENT
UID:312@fsbhildesheim.de
DTSTART;TZID=Europe/Berlin:20241119T000000
DTEND;TZID=Europe/Berlin:20241209T000000
DTSTAMP:20241006T124317Z
URL:https://www.fsbhildesheim.de/events/spenden-fuer-den-guten-hirten-2/
SUMMARY:Spenden für den Guten Hirten
DESCRIPTION:In diesem Jahr\, wie in den vergangenen Jahren auch\, wollen wi
 r den Menschen etwas Gutes tun\, die nicht auf der Sonnenseite des Lebens 
 stehen. Im Eingangsbereich der Tenne steht ab dem 19.11.2024 ein Behälter
 \, der gefüllt bis zum 09.12.2024 dem Guten Hirten übergeben wird.\nWie 
 auch in den vergangenen Jahren sind erwünscht: haltbare Lebensmittel\, wi
 e Reis\, Nudeln\, Dosenwurst. Aber auch Körper-pflegemittel und für die 
 Kinder Süßigkeiten oder Gebäck werden von Elke und Norbert dankend entg
 egengenommen.
CATEGORIES:Alle
LOCATION:FSB Hildesheim\, Rottsberg 1\, Hildesheim\, Niedersachsen\, 31139\
 , Deutschland
GEO:52.14286999999999;9.905330000000049
X-APPLE-STRUCTURED-LOCATION;VALUE=URI;X-ADDRESS=Rottsberg 1\, Hildesheim\, 
 Niedersachsen\, 31139\, Deutschland;X-APPLE-RADIUS=100;X-TITLE=FSB Hildesh
 eim:geo:52.14286999999999,9.905330000000049
END:VEVENT
BEGIN:VTIMEZONE
TZID:Europe/Berlin
X-LIC-LOCATION:Europe/Berlin
BEGIN:STANDARD
DTSTART:20241027T020000
TZOFFSETFROM:+0200
TZOFFSETTO:+0100
TZNAME:CET
END:STANDARD
END:VTIMEZONE
END:VCALENDAR