BEGIN:VCALENDAR
VERSION:2.0
PRODID:-//wp-events-plugin.com//7.2.3.1//EN
TZID:Europe/Berlin
X-WR-TIMEZONE:Europe/Berlin
BEGIN:VEVENT
UID:344@fsbhildesheim.de
DTSTART;TZID=Europe/Berlin;VALUE=DATE:20260102
DTEND;TZID=Europe/Berlin;VALUE=DATE:20260124
DTSTAMP:20260101T100118Z
URL:https://www.fsbhildesheim.de/events/spende-fuer-den-guten-hirten/
SUMMARY:Spende für den guten Hirten
DESCRIPTION:Liebe Mitglieder!\n\nDa unser Spendenaufruf im letzten Jahr ver
 schoben wurde\, weil man nicht auf unser Gelände konnte\, möchten wir es
  in diesem Jahr nachholen!\n\nWie in den letzten Jahren\,gehen die Spenden
  an Menschen\, die nicht auf der Sonnenseite des Lebens stehen!! Darunter 
 sind auch viele Kinder!\n\nWie schon gesagt\, sind Nudeln\, Dosenwurst\, D
 osenkonserven\, Schokolade\, Süßigkeiten\, Kekse\, sowie Duschmittel\, H
 aarshampoo\, Körper Creme gerne gesehen.\n\nAb dem 2.1.26 steht im Vorrau
 m der Tenne ein Behälter\, um dort die Spenden hinein zu legen. Der wird 
 dann von uns am 23.1.26 abgeholt und seiner Bestimmung übergeben!!\n\nEs 
 ist wie immer\, alles freiwillig!!!\n\nVielen Dank im voraus für die Müh
 e und kommt gesund ins neue Jahr\,\nmit vielen Grüßen\,\nherzlich Elke M
 .
CATEGORIES:Mitglieder,Tenne
LOCATION:FSB Hildesheim\, Tenne\, \, 
X-APPLE-STRUCTURED-LOCATION;VALUE=URI;X-ADDRESS=\, ;X-APPLE-RADIUS=100;X-TI
 TLE=FSB Hildesheim\, Tenne:geo:0,0
END:VEVENT
BEGIN:VTIMEZONE
TZID:Europe/Berlin
X-LIC-LOCATION:Europe/Berlin
BEGIN:STANDARD
DTSTART:20251026T020000
TZOFFSETFROM:+0200
TZOFFSETTO:+0100
TZNAME:CET
END:STANDARD
END:VTIMEZONE
END:VCALENDAR