BEGIN:VCALENDAR
VERSION:2.0
PRODID:-//wp-events-plugin.com//7.2.3.1//EN
TZID:Europe/Berlin
X-WR-TIMEZONE:Europe/Berlin
BEGIN:VEVENT
UID:358@fsbhildesheim.de
DTSTART;TZID=Europe/Berlin;VALUE=DATE:20260808
DTEND;TZID=Europe/Berlin;VALUE=DATE:20260809
DTSTAMP:20260215T141009Z
URL:https://www.fsbhildesheim.de/events/sommerfest/
SUMMARY:Sommerfest
DESCRIPTION:Details folgen
CATEGORIES:Alle
END:VEVENT
BEGIN:VTIMEZONE
TZID:Europe/Berlin
X-LIC-LOCATION:Europe/Berlin
BEGIN:DAYLIGHT
DTSTART:20260329T030000
TZOFFSETFROM:+0100
TZOFFSETTO:+0200
TZNAME:CEST
END:DAYLIGHT
END:VTIMEZONE
END:VCALENDAR