BEGIN:VCALENDAR
VERSION:2.0
PRODID:-//wp-events-plugin.com//7.2.3.1//EN
TZID:Europe/Berlin
X-WR-TIMEZONE:Europe/Berlin
BEGIN:VEVENT
UID:239@fsbhildesheim.de
DTSTART;TZID=Europe/Berlin;VALUE=DATE:20221231
DTEND;TZID=Europe/Berlin;VALUE=DATE:20230102
DTSTAMP:20221010T122254Z
URL:https://www.fsbhildesheim.de/events/silvesterfeier-2022/
SUMMARY:Silvesterfeier 2022
DESCRIPTION:Liebe Mitglieder\,\n\nkaum sind die letzten Sportabzeichen abge
 legt\, naht auch schon das Jahresende. Wir wollen gemeinsam den letzten Ta
 g des Jahres feiern und uns auf den Beginn eines tollen Jahres 2023 freuen
 .\n\nDarum laden wir euch ein\, gemeinsam in der Tenne Silvester zu feiern
 . Der Beginn und andere Details werden euch zeitnah mitgeteilt.\n\nFür Ge
 tränke wird gesorgt.\n\nEs wird ein „Mitbringbuffet“ gestaltet. Das h
 eißt jeder bringt das mit\, was er gern essen möchte.\n\nMusikalisch sin
 d wir noch auf der Suche. Die „Hardware“ ist vorhanden. Lediglich der 
 „Mixer“ fehlt. Wer also Lust hat\, die Musik und deren Abfolge zu gest
 alten\, melde sich bei uns.\n\nDie Anmeldung bei Teilnahme an der Silveste
 rfeier ist bis zum 15.12.2022 bei Renate möglich\, allerdings nur per Mai
 l:   nane312@web.de\n\nEs grüßt euch\n\nHarald
CATEGORIES:Alle
END:VEVENT
BEGIN:VTIMEZONE
TZID:Europe/Berlin
X-LIC-LOCATION:Europe/Berlin
BEGIN:STANDARD
DTSTART:20221030T020000
TZOFFSETFROM:+0200
TZOFFSETTO:+0100
TZNAME:CET
END:STANDARD
END:VTIMEZONE
END:VCALENDAR