BEGIN:VCALENDAR
VERSION:2.0
PRODID:-//wp-events-plugin.com//7.2.3.1//EN
TZID:Europe/Berlin
X-WR-TIMEZONE:Europe/Berlin
BEGIN:VEVENT
UID:334@fsbhildesheim.de
DTSTART;TZID=Europe/Berlin;VALUE=DATE:20250621
DTEND;TZID=Europe/Berlin;VALUE=DATE:20250622
DTSTAMP:20250601T155459Z
URL:https://www.fsbhildesheim.de/events/nudeln-bolo/
SUMMARY:Nudeln Bolo
DESCRIPTION:Wir machen die Nudeln!!!\n \nWir probieren mal was Neues aus:\
 n\nGroß und Klein teilen sich ein Event\n\nAm 21.06.2025 gibt es für "A
 LLE" um 18.00h ein Nudeln - Bolognese - Essen auf der Tenne.\n\nDie "KIND
 ER" hingegen treffen sich bereits um 14.00h in der Küche\, um sich ihre e
 igenen Nudeln für das spätere Essen herzustellen.\n\nAnmeldungen für "A
 LLE" bitte wie gewohnt direkt an Erik. tenne@fsbhildesheim.de\nKosten: "Te
 ller" 5 €\, "Nudeln satt" 9 €.\nAnmeldeschluss: 17.06.2025\n\nAnmeldun
 gen für die "KINDER" an:\njugend@fsbhildesheim.de\nKosten für mitmachend
 e Kinder: 0 €.\nAnmeldeschluss: 15.06.2025
CATEGORIES:Jugend,Mitglieder,Tenne
END:VEVENT
BEGIN:VTIMEZONE
TZID:Europe/Berlin
X-LIC-LOCATION:Europe/Berlin
BEGIN:DAYLIGHT
DTSTART:20250330T030000
TZOFFSETFROM:+0100
TZOFFSETTO:+0200
TZNAME:CEST
END:DAYLIGHT
END:VTIMEZONE
END:VCALENDAR