BEGIN:VCALENDAR
VERSION:2.0
PRODID:-//wp-events-plugin.com//7.2.3.1//EN
TZID:Europe/Berlin
X-WR-TIMEZONE:Europe/Berlin
BEGIN:VEVENT
UID:297@fsbhildesheim.de
DTSTART;TZID=Europe/Berlin:20240113T150000
DTEND;TZID=Europe/Berlin:20240113T150000
DTSTAMP:20231212T093127Z
URL:https://www.fsbhildesheim.de/events/neujahrsempfang-2/
SUMMARY:Neujahrsempfang
DESCRIPTION:
CATEGORIES:Mitglieder,Tenne
LOCATION:FSB Hildesheim\, Tenne\, \, 
X-APPLE-STRUCTURED-LOCATION;VALUE=URI;X-ADDRESS=\, ;X-APPLE-RADIUS=100;X-TI
 TLE=FSB Hildesheim\, Tenne:geo:0,0
END:VEVENT
BEGIN:VTIMEZONE
TZID:Europe/Berlin
X-LIC-LOCATION:Europe/Berlin
BEGIN:STANDARD
DTSTART:20231029T020000
TZOFFSETFROM:+0200
TZOFFSETTO:+0100
TZNAME:CET
END:STANDARD
END:VTIMEZONE
END:VCALENDAR