BEGIN:VCALENDAR
VERSION:2.0
PRODID:-//wp-events-plugin.com//7.2.3.1//EN
TZID:Europe/Berlin
X-WR-TIMEZONE:Europe/Berlin
BEGIN:VEVENT
UID:299@fsbhildesheim.de
DTSTART;TZID=Europe/Berlin:20240427T090000
DTEND;TZID=Europe/Berlin:20240427T090000
DTSTAMP:20240326T124554Z
URL:https://www.fsbhildesheim.de/events/nachpruefung-gasanlage/
SUMMARY:Nachprüfung Gasanlage
DESCRIPTION:Liebe Mitglieder\,\n\nim Herbst 2023 wurden bei den Gasprüfung
 en an unseren WoWa nicht alle Prüfungen positiv abgeschlossen.\n\nDie Fa.
  ENTEC\, Herr Nötzel wird demnach am Sa. 27.04.24 ab 9:00 Uhr die Restarb
 eiten mit Reparaturen und Prüfungen nachholen.\n\nDas betrifft folgende W
 oWa bzw. Mitglieder:\n\n 	Stellplatz Rosi &amp\; Peter Baumgarten\n 	Stell
 platz Kathrin &amp\; Uwe Schulze\n 	Stellplatz Uschi Werth\n 	Karin &amp\;
  Wolfgang Weirich\n 	Nicole &amp\; Harald Zielke (Zweitwagen)\n\nHans-Jür
 gen Frohns wollte mit Herrn Nötzel die Reparatur selbst klären.\n\nRudi 
 Gläß wird Herrn Nötzel reinlassen und anwesend sein.\n\nSportliche Grü
 ße\nG.&amp\; R. Gläß
CATEGORIES:Gelände
LOCATION:FSB Hildesheim\, Rottsberg 1\, Hildesheim\, Niedersachsen\, 31139\
 , Deutschland
GEO:52.14286999999999;9.905330000000049
X-APPLE-STRUCTURED-LOCATION;VALUE=URI;X-ADDRESS=Rottsberg 1\, Hildesheim\, 
 Niedersachsen\, 31139\, Deutschland;X-APPLE-RADIUS=100;X-TITLE=FSB Hildesh
 eim:geo:52.14286999999999,9.905330000000049
END:VEVENT
BEGIN:VTIMEZONE
TZID:Europe/Berlin
X-LIC-LOCATION:Europe/Berlin
BEGIN:DAYLIGHT
DTSTART:20240331T030000
TZOFFSETFROM:+0100
TZOFFSETTO:+0200
TZNAME:CEST
END:DAYLIGHT
END:VTIMEZONE
END:VCALENDAR