BEGIN:VCALENDAR
VERSION:2.0
PRODID:-//wp-events-plugin.com//7.2.3.1//EN
TZID:Europe/Berlin
X-WR-TIMEZONE:Europe/Berlin
BEGIN:VEVENT
UID:247@fsbhildesheim.de
DTSTART;TZID=Europe/Berlin:20230218T140000
DTEND;TZID=Europe/Berlin:20230218T140000
DTSTAMP:20230131T184706Z
URL:https://www.fsbhildesheim.de/events/karneval-der-kugeln/
SUMMARY:Karneval der Kugeln
DESCRIPTION:Liebe Mitglieder\,\n\nAm 18.02.2023 um 14:00 Uhr findet auf dem
  Petanqueplatz der „Karneval der Kugeln“ statt.\n\nEingeladen und star
 tberechtigt sind alle Mitglieder aus unserem Verein\, die in angemessener 
 Kleidung (Kostümierung) erscheinen. Also nicht wundern oder erschrecken\,
  wenn plötzlich die Ordensfrau mit dem Beelzebub gegen den Polizeibeamten
  und dem Sträfling antreten muss.\n\nPétanque spielen macht hungrig?\n\n
 Bringt doch einfach eine Kleinigkeit zu Essen mit\, vielleicht bekommen wi
 r ein kleines Buffet zusammen.\n\nPétanque spielen macht durstig?\n\nGetr
 änke werden natürlich im Rahmen des Angebots und zu den üblichen Tennen
 preisen bereitgestellt\, je nach Witterung wird auch Glühwein angeboten.\
 n\nDu hast keine Kugeln oder hast noch nie Pétanque gespielt?\n\nKugeln s
 ind für alle Teilnehmer reichlich vorhanden und für die Spielregeln steh
 en euch unsere „Altinternationalen“ erfahrenen Petanquer mit Rat und T
 at zur Seite.\n\nDu bist zu alt um Pétanque zu spielen?\n\nLisa Schwarz v
 om Petanque-Verein Red Boule aus Bad Segeberg mit Ihren 95 Jahren ist nich
 t der Meinung.\n\nAlso\, uns fallen keine Gründe ein\, warum Ihr nicht te
 ilnehmen solltet. Wir freuen uns auf einen bunten und lustigen Nachmittag 
 mit euch.\n\nEine vorherige Anmeldung ist nicht notwendig.\n\nEs grüßen 
 euch mit einen dreifachen Alaaf\, Helau\, oder wie man in Hildesheim sagt 
 „Pott Heißa“\n\nAchim und Robert
CATEGORIES:Pétanque
LOCATION:FSB Hildesheim\, Rottsberg 1\, Hildesheim\, Niedersachsen\, 31139\
 , Deutschland
GEO:52.14286999999999;9.905330000000049
X-APPLE-STRUCTURED-LOCATION;VALUE=URI;X-ADDRESS=Rottsberg 1\, Hildesheim\, 
 Niedersachsen\, 31139\, Deutschland;X-APPLE-RADIUS=100;X-TITLE=FSB Hildesh
 eim:geo:52.14286999999999,9.905330000000049
END:VEVENT
BEGIN:VTIMEZONE
TZID:Europe/Berlin
X-LIC-LOCATION:Europe/Berlin
BEGIN:STANDARD
DTSTART:20221030T020000
TZOFFSETFROM:+0200
TZOFFSETTO:+0100
TZNAME:CET
END:STANDARD
END:VTIMEZONE
END:VCALENDAR