BEGIN:VCALENDAR
VERSION:2.0
PRODID:-//wp-events-plugin.com//7.2.3.1//EN
TZID:Europe/Berlin
X-WR-TIMEZONE:Europe/Berlin
BEGIN:VEVENT
UID:244@fsbhildesheim.de
DTSTART;TZID=Europe/Berlin:20230310T190000
DTEND;TZID=Europe/Berlin:20230310T190000
DTSTAMP:20230131T181954Z
URL:https://www.fsbhildesheim.de/events/jahreshauptversammlung/
SUMMARY:Jahreshauptversammlung
DESCRIPTION:Zur Jahreshauptversammlung treffen wir uns in der Tenne am 10.0
 3.2023 um 19 Uhr.\nTagesordnung\n\n 	Begrüßung durch den 1. Vorsitzenden
 \n 	Feststellung der Beschlussfähigkeit\n 	Wahl eines Versammlungsleiters
 \n 	Genehmigung der Tagesordnung mit Anmeldung von Themen zu TOP 15 Versch
 iedenes\n 	Ehrungen\n 	Berichte des Vorstandes inkl. Haushaltsabschluss 20
 22\, sowie der Beiräte mit Aussprache\n 	Bericht des Ehrenrates\n 	Berich
 t der Kassen- und Rechnungsprüfer\n 	Entlastung des Vorstandes und Verabs
 chiedung der ausscheidenden Vorstandsmitglieder\n 	Wahl eines Wahlleiters\
 n 	Alternierende Wahlen\, jeweils auf 2 Jahre\n\n 	1. Vorsitzender\n 	Schr
 iftführer\n 	2. Rechnungsprüfer\n 	Ehrenrat Vorsitzender\n 	Ehrenrat 1. 
 Beirat\n 	Geländewart\n 	Jugendwart\n\n\n 	Außerordentliche Wahl für 1 
 Jahr\n\n 	Pressewart\n\n\n 	Beratung und Beschlussfassung zum Haushalt 202
 3\n 	Beratung und Beschlussfassung über vorliegende Anträge\n 	Verschied
 enes\n
CATEGORIES:Alle,Mitglieder
LOCATION:FSB Hildesheim\, Tenne\, \, 
X-APPLE-STRUCTURED-LOCATION;VALUE=URI;X-ADDRESS=\, ;X-APPLE-RADIUS=100;X-TI
 TLE=FSB Hildesheim\, Tenne:geo:0,0
END:VEVENT
BEGIN:VTIMEZONE
TZID:Europe/Berlin
X-LIC-LOCATION:Europe/Berlin
BEGIN:STANDARD
DTSTART:20221030T020000
TZOFFSETFROM:+0200
TZOFFSETTO:+0100
TZNAME:CET
END:STANDARD
END:VTIMEZONE
END:VCALENDAR