BEGIN:VCALENDAR
VERSION:2.0
PRODID:-//wp-events-plugin.com//7.2.3.1//EN
TZID:Europe/Berlin
X-WR-TIMEZONE:Europe/Berlin
BEGIN:VEVENT
UID:296@fsbhildesheim.de
DTSTART;TZID=Europe/Berlin:20240315T190000
DTEND;TZID=Europe/Berlin:20240315T190000
DTSTAMP:20231209T110623Z
URL:https://www.fsbhildesheim.de/events/jahreshauptversammlung-3/
SUMMARY:Jahreshauptversammlung
DESCRIPTION:Vorläufige Tagesordnung\n\n 	Begrüßung durch den 1. Vorsitze
 nden\n 	Feststellung der Beschlussfähigkeit\n 	Genehmigung der Tagesordnu
 ng &amp\; Anmeldung von Themen zu TOP 13\n 	Ehrungen\n 	Berichte des Vorst
 ands\, u.a. Haushaltsabschluss 2023 und Aussprache der Beiräte\n 	Bericht
  des Ehrenrates\n 	Bericht der Kassen- und Rechnungsprüfer\n 	Entlastung 
 des Vorstands und ggf. Verabschiedung der ausscheidenden Vorstandsmitglied
 er\n 	Alternierende Wahlen:\n\n 	2. Vorsitzender\n 	Schatzmeister\n 	1. Re
 chnungsprüfer\n 	Pressewart\n 	Ehrenrat: 2. Beirat und 2. Stellvertreter\
 n\n\n 	Außerordentliche Wahl für 1 Jahr: 2. Rechnungsprüfer\n 	Beratung
  und Beschlussfassung zum Haushalt 2024\n 	Beratung und Beschlussfassung 
 über vorliegende Anträge\n 	Verschiedenes\n\nAlle Bezeichnungen von Funk
 tionen und Ämtern sind als neutrale Bezeichnungen zu verstehen. Es werden
  keine Aussagen bezüglich des Geschlechts getroffen.\n\nBitte richtet Ant
 räge für die JHV bis spätestens zum 15.01.2024 ausschließlich schriftl
 ich an die private Anschrift des 1. Vorsitzenden. Nur so kann gewährleist
 et werden\, dass der Antrag aufgenommen wird.
CATEGORIES:Alle,Tenne
LOCATION:FSB Hildesheim\, Tenne\, \, 
X-APPLE-STRUCTURED-LOCATION;VALUE=URI;X-ADDRESS=\, ;X-APPLE-RADIUS=100;X-TI
 TLE=FSB Hildesheim\, Tenne:geo:0,0
END:VEVENT
BEGIN:VTIMEZONE
TZID:Europe/Berlin
X-LIC-LOCATION:Europe/Berlin
BEGIN:STANDARD
DTSTART:20231029T020000
TZOFFSETFROM:+0200
TZOFFSETTO:+0100
TZNAME:CET
END:STANDARD
END:VTIMEZONE
END:VCALENDAR