BEGIN:VCALENDAR
VERSION:2.0
PRODID:-//wp-events-plugin.com//7.2.3.1//EN
TZID:Europe/Berlin
X-WR-TIMEZONE:Europe/Berlin
BEGIN:VEVENT
UID:238@fsbhildesheim.de
DTSTART;TZID=Europe/Berlin:20221019T180000
DTEND;TZID=Europe/Berlin:20221019T180000
DTSTAMP:20221010T122003Z
URL:https://www.fsbhildesheim.de/events/interesse-am-petanquesport/
SUMMARY:Interesse am Petanquesport?
DESCRIPTION:Liebe Mitglieder\,\n\nHiermit lade ich alle Mitglieder\, die am
  Petanquesport interessiert sind zu einem Treffen am 19.10.2022 um 18:00 U
 hr in die Tenne ein.\n\nAn diesem Abend möchte ich über den Petanquespor
 t in unserem Verein informieren und einen Ausblick für das Jahr 2023 gebe
 n.\n\nFür die interessierten Teilnehmer ist es unerheblich\, ob Erfahrung
 en im Petanque vorhanden sind oder nicht. \n\nallez les boules\n\nMit spo
 rtlichem Gruß \nRobert \n\nBei Fragen oder Anregungen\, dann bitte kurz
 fristig und gern an:\nvize@fsbhildesheim.de\n\nIch werde den Petanquewart 
 vorher informieren.
CATEGORIES:Pétanque
END:VEVENT
BEGIN:VTIMEZONE
TZID:Europe/Berlin
X-LIC-LOCATION:Europe/Berlin
BEGIN:DAYLIGHT
DTSTART:20220327T030000
TZOFFSETFROM:+0100
TZOFFSETTO:+0200
TZNAME:CEST
END:DAYLIGHT
END:VTIMEZONE
END:VCALENDAR