BEGIN:VCALENDAR
VERSION:2.0
PRODID:-//wp-events-plugin.com//7.2.3.1//EN
TZID:Europe/Berlin
X-WR-TIMEZONE:Europe/Berlin
BEGIN:VEVENT
UID:361@fsbhildesheim.de
DTSTART;TZID=Europe/Berlin;VALUE=DATE:20260509
DTEND;TZID=Europe/Berlin;VALUE=DATE:20260510
DTSTAMP:20260402T164244Z
URL:https://www.fsbhildesheim.de/events/infotag-2026-beim-fsb-hildesheim/
SUMMARY:Infotag 2026 beim FSB Hildesheim
DESCRIPTION:Wir veranstalten am Samstag\, den 09.05.2026 unseren Info-Tag b
 eim Familien-Sport-Bund Hildesheim e.V.\n\nAlle Interessenten sind herzlic
 h eingeladen und gern gesehen.\n\nBeginnen werden wir um 13:00 mit einem F
 lohmarkt\, bevor um 14:30 Kaffee/Tee und Kuchen angeboten wird. Unsere Mit
 glieder sind gern bereit\, euch unseren tollen Sportpark zu zeigen. Bringt
  eure Kinder mit. Es gibt viel zu erleben bei uns.\n\nAb ca. 17:30 werden 
 vom Grill schmackhafte Fleischspezialitäten anbieten.\n\nAnmeldungen bitt
 e einzig und allein unter info@fsbhildesheim.de\n\nViele Grüße vom 1.Vor
 sitzenden\nHarald Zielke
CATEGORIES:Alle
LOCATION:FSB Hildesheim\, Rottsberg 1\, Hildesheim\, Niedersachsen\, 31139\
 , Deutschland
GEO:52.14286999999999;9.905330000000049
X-APPLE-STRUCTURED-LOCATION;VALUE=URI;X-ADDRESS=Rottsberg 1\, Hildesheim\, 
 Niedersachsen\, 31139\, Deutschland;X-APPLE-RADIUS=100;X-TITLE=FSB Hildesh
 eim:geo:52.14286999999999,9.905330000000049
END:VEVENT
BEGIN:VTIMEZONE
TZID:Europe/Berlin
X-LIC-LOCATION:Europe/Berlin
BEGIN:DAYLIGHT
DTSTART:20260329T030000
TZOFFSETFROM:+0100
TZOFFSETTO:+0200
TZNAME:CEST
END:DAYLIGHT
END:VTIMEZONE
END:VCALENDAR