BEGIN:VCALENDAR
VERSION:2.0
PRODID:-//wp-events-plugin.com//7.2.3.1//EN
TZID:Europe/Berlin
X-WR-TIMEZONE:Europe/Berlin
BEGIN:VEVENT
UID:333@fsbhildesheim.de
DTSTART;TZID=Europe/Berlin;VALUE=DATE:20250614
DTEND;TZID=Europe/Berlin;VALUE=DATE:20250616
DTSTAMP:20250414T083815Z
URL:https://www.fsbhildesheim.de/events/gaspruefung-verpflichtend-fuer-all
 e-wohnwagen-mit-aktiver-gasanlage/
SUMMARY:Gasprüfung - Verpflichtend für alle Wohnwagen mit aktiver Gasanla
 ge
DESCRIPTION:Liebe Mitglieder\,\n\n&nbsp\;\n\nbezüglich unserer Wohnwagen u
 nd der eingebauten Gasanlagen (Heizung\, Kochstellen….) hat sich mit Beg
 inn des Jahres etwas geändert\, was einige von Euch zum schnellstmöglich
 en Handeln veranlassen sollte.\n\nWer in seinem Wohnwagen keinerlei Gasver
 braucher verbaut hat\, den betrifft diese Information nicht. Wer regelmä
 ßig eine Gasprüfung machen lässt\, kann sich ebenfalls entspannt zurüc
 klehnen.\n\n \n\n+++++ Wichtige Information für Inhaber von Wohnwagen ++
 +++\n\n \n\nGasprüfungspflicht für alle Wohnwagen\n\nMit der Änderung 
 der StVZO im § 60 zu Beginn des Jahres ist nun auch die Gasprüfung für 
 Wohnwagen zur Pflicht geworden. In Verbindung mit § 72\, Absatz 15 und 16
  der StVZO erklärt sich\, dass auch nicht angemeldete Wohnwagen darunterf
 allen und die Schonfrist am 19.06.2025 abläuft.\n\nGasprüfung unabhängi
 g von der Hauptuntersuchung\n\nWichtig zu wissen ist\, dass die Gasprüfun
 g nicht mit der regulären Hauptuntersuchung des Fahrzeugs verwechselt wer
 den darf. Sie erfolgt unabhängig davon und muss gesondert gebucht und dur
 chgeführt werden.\n\nWarum ist die Gasprüfung so wichtig?\n\nFehler oder
  Mängel an Flüssiggasanlagen in Wohnmobilen und Wohnwagen können fatale
  Folgen haben\, wie etwa Gasvergiftungen oder sogar Explosionen. Gerade in
  geschlossenen Räumen\, wie sie in Fahrzeugen vorzufinden sind\, können 
 Gaslecks zu gefährlichen Situationen führen. Daher ist eine regelmäßig
 e Überprüfung der Gasanlage von entscheidender Bedeutung für die Sicher
 heit von Campern.\n\nBußgelder bei Verstoß\n\nWer die Gasprüfung nicht 
 rechtzeitig durchführen lässt\, riskiert ein Bußgeld. Bei Überschreitu
 ng der Frist von mehr als zwei Monaten kann ein Bußgeld von 15 Euro anfal
 len. Bei einer Fristüberschreitung von mehr als acht Monaten drohen sogar
  bis zu 60 Euro Strafe.\n\n&nbsp\;\n\nGudrun und Rudi haben sich um zeitna
 he Termine zur zentralen und gemeinsamen Prüfung der Gasanlagen in den Wo
 hnwagen bemüht. Der Gasprüfer bietet uns trotz engem Zeitplan für Gaspr
 üfungen den 14.06. und 15.06.2025 an. \n\nInteressenten melden sich bitte
  bis spätestens Donnerstag (17.04.2025) bei Gudrun und Rudi unter glaess.
 guru@gmail.com \, telefonisch oder per WhatsApp unter 0176 47626489\n\n \
 n\nViele Grüße vom Harald
CATEGORIES:Gelände,Mitglieder
LOCATION:FSB Hildesheim\, Rottsberg 1\, Hildesheim\, Niedersachsen\, 31139\
 , Deutschland
GEO:52.14286999999999;9.905330000000049
X-APPLE-STRUCTURED-LOCATION;VALUE=URI;X-ADDRESS=Rottsberg 1\, Hildesheim\, 
 Niedersachsen\, 31139\, Deutschland;X-APPLE-RADIUS=100;X-TITLE=FSB Hildesh
 eim:geo:52.14286999999999,9.905330000000049
END:VEVENT
BEGIN:VTIMEZONE
TZID:Europe/Berlin
X-LIC-LOCATION:Europe/Berlin
BEGIN:DAYLIGHT
DTSTART:20250330T030000
TZOFFSETFROM:+0100
TZOFFSETTO:+0200
TZNAME:CEST
END:DAYLIGHT
END:VTIMEZONE
END:VCALENDAR