BEGIN:VCALENDAR
VERSION:2.0
PRODID:-//wp-events-plugin.com//7.2.3.1//EN
TZID:Europe/Berlin
X-WR-TIMEZONE:Europe/Berlin
BEGIN:VEVENT
UID:245@fsbhildesheim.de
DTSTART;TZID=Europe/Berlin;VALUE=DATE:20221113
DTEND;TZID=Europe/Berlin;VALUE=DATE:20221114
DTSTAMP:20221104T171429Z
URL:https://www.fsbhildesheim.de/events/gaspruefung-fuer-wohnwagen/
SUMMARY:Gasprüfung für Wohnwagen
DESCRIPTION:Liebe Mitglieder\,\n\nWir\, Rudi &amp\; Gudrun Gläß\, haben d
 as Thema "Gasprüfungen an unseren mobilen Anlagen" von Lothar Schulze üb
 ernommen. Da Einige mit dem bisherigen Prüfer\, Markus Nolte\, wenig zufr
 ieden waren\, haben wir die Fa. "EN-TEC" Gasvertrieb (Chef ist Herr Nötze
 l) gewinnen können.\n\nEin erster kurzfristiger Prüftermin war bereits a
 m 31.10.\n\nMit Herrn Nötzel wurde nun ein zweiter Termin vereinbart:\n\n
 --&gt\; er kommt am Sonntag\, 13.11.22 ab 9:00 Uhr auf unser FSB-Gelände\
 , um weitere Anlagen zu überprüfen.\n\nWir bitten bei Interesse\, euch d
 irekt an uns zu wenden\, entweder per Mail (glaess.guru@gmail.com) oder te
 lefonisch HI 8756471 und 0176 47626489.\n\nSportliche Grüße\nRudi &amp\;
  Gudrun Gläß
CATEGORIES:Alle
END:VEVENT
BEGIN:VTIMEZONE
TZID:Europe/Berlin
X-LIC-LOCATION:Europe/Berlin
BEGIN:STANDARD
DTSTART:20221030T020000
TZOFFSETFROM:+0200
TZOFFSETTO:+0100
TZNAME:CET
END:STANDARD
END:VTIMEZONE
END:VCALENDAR