BEGIN:VCALENDAR
VERSION:2.0
PRODID:-//wp-events-plugin.com//7.2.3.1//EN
TZID:Europe/Berlin
X-WR-TIMEZONE:Europe/Berlin
BEGIN:VEVENT
UID:359@fsbhildesheim.de
DTSTART;TZID=Europe/Berlin:20260315T150000
DTEND;TZID=Europe/Berlin:20260315T150000
DTSTAMP:20260302T183407Z
URL:https://www.fsbhildesheim.de/events/fsb-laedt-zum-spielen-ein/
SUMMARY:FSB lädt zum Spielen ein
DESCRIPTION:Für alle Mitglieder von 10 - 100!\n\nHerzliche Einladung zum K
 affeetrinken und Spielen\n\nSo\, 15.03.2026\nab 15:00 Uhr in der Tenne\n\n
 Bitte meldet euch bei Martina an.\n\nFür Kaffee und Spiele ist gesorgt. 
 Über Kuchenspenden zum Buffet würden wir uns freuen! Auch eigene Spiele 
 sind willkommen.\n\nWir freuen uns auf Euch!\nTina und Martina
CATEGORIES:Jugend,Mitglieder,Tenne
LOCATION:FSB Hildesheim\, Tenne\, \, 
X-APPLE-STRUCTURED-LOCATION;VALUE=URI;X-ADDRESS=\, ;X-APPLE-RADIUS=100;X-TI
 TLE=FSB Hildesheim\, Tenne:geo:0,0
END:VEVENT
BEGIN:VTIMEZONE
TZID:Europe/Berlin
X-LIC-LOCATION:Europe/Berlin
BEGIN:STANDARD
DTSTART:20251026T020000
TZOFFSETFROM:+0200
TZOFFSETTO:+0100
TZNAME:CET
END:STANDARD
END:VTIMEZONE
END:VCALENDAR