BEGIN:VCALENDAR
VERSION:2.0
PRODID:-//wp-events-plugin.com//7.2.3.1//EN
TZID:Europe/Berlin
X-WR-TIMEZONE:Europe/Berlin
BEGIN:VEVENT
UID:246@fsbhildesheim.de
DTSTART;TZID=Europe/Berlin:20221113T103000
DTEND;TZID=Europe/Berlin:20221113T123000
DTSTAMP:20221104T171740Z
URL:https://www.fsbhildesheim.de/events/erstes-offenes-training/
SUMMARY:Erstes offenes Training
DESCRIPTION:Moin\,\nich freue mich das ihr euch für eine Ligamannschaft 20
 23 im FSB Hildesheim entschieden habt. Ich hoffe das der eine oder andere 
 noch dazukommen wird. Für unsere Sparte freue ich mich ganz besonders üb
 er die Unterstützung von Achim\, vielen Dank dafür.\n\nDas erste Treffen
  mit Kugeln soll am 13.11.2022 um 10:30 bis 12:30 Uhr auf dem Petanqueplat
 z stattfinden.\n\nDas Training soll immer Sonntags von 10:30 bis 12:30 Uhr
  stattfinden\nDenn offiziellen Trainingsbeginn werde ich noch bekanntgegeb
 en.\n\nAllez les Boules\nLG vom Robert
CATEGORIES:Alle
END:VEVENT
BEGIN:VTIMEZONE
TZID:Europe/Berlin
X-LIC-LOCATION:Europe/Berlin
BEGIN:STANDARD
DTSTART:20221030T020000
TZOFFSETFROM:+0200
TZOFFSETTO:+0100
TZNAME:CET
END:STANDARD
END:VTIMEZONE
END:VCALENDAR