BEGIN:VCALENDAR
VERSION:2.0
PRODID:-//wp-events-plugin.com//7.2.3.1//EN
TZID:Europe/Berlin
X-WR-TIMEZONE:Europe/Berlin
BEGIN:VEVENT
UID:298@fsbhildesheim.de
DTSTART;TZID=Europe/Berlin:20240401T100000
DTEND;TZID=Europe/Berlin:20240401T100000
DTSTAMP:20240311T064852Z
URL:https://www.fsbhildesheim.de/events/eierbraten/
SUMMARY:Eierbraten
DESCRIPTION:Hallihallo\,\nam Ostermontag\, den 01.April findet ab 11.00h wi
 eder das Eierbraten statt. Treff ist vor der Tenne.\n\nDann folgen wir der
  Fährte des Osterhasen durch den Wald und anschließend wollen wir auf de
 r Tenne gesellig Beisammensitzen. Dabei werden Eier mit unterschiedlichem 
 Beiwerk über offener Flamme gebraten.\n\nKosten pro Person 5€.\nAnmeldu
 ngen bis zum 22.März unter jugend@fsbhildesheim.de\n\nBis dahin einen\nLi
 eben Gruß\nPetra
CATEGORIES:Jugend,Tenne
LOCATION:FSB Hildesheim\, Tenne\, \, 
X-APPLE-STRUCTURED-LOCATION;VALUE=URI;X-ADDRESS=\, ;X-APPLE-RADIUS=100;X-TI
 TLE=FSB Hildesheim\, Tenne:geo:0,0
END:VEVENT
BEGIN:VTIMEZONE
TZID:Europe/Berlin
X-LIC-LOCATION:Europe/Berlin
BEGIN:DAYLIGHT
DTSTART:20240331T030000
TZOFFSETFROM:+0100
TZOFFSETTO:+0200
TZNAME:CEST
END:DAYLIGHT
END:VTIMEZONE
END:VCALENDAR