BEGIN:VCALENDAR
VERSION:2.0
PRODID:-//wp-events-plugin.com//7.2.3.1//EN
TZID:Europe/Berlin
X-WR-TIMEZONE:Europe/Berlin
BEGIN:VEVENT
UID:332@fsbhildesheim.de
DTSTART;TZID=Europe/Berlin:20250402T100000
DTEND;TZID=Europe/Berlin:20250402T100000
DTSTAMP:20250325T130524Z
URL:https://www.fsbhildesheim.de/events/eierbraten-am-ostermontag-2/
SUMMARY:Eierbraten am Ostermontag
DESCRIPTION:\n\n\n\n\n\nHallo an Alle\,\n\nunsere Eröffnungsveranstaltung 
 nähert sich.\n\nWie immer starten wir um 11.00 Uhr an der Tenne mit einem
  Spaziergang durch den Wald\, um die Fährte des Osterhasen ausfindig zu m
 achen und zu schauen\, ob auch in diesem Jahr die Kiepe mit den Süßigkei
 ten undicht war.\n\nIm Anschluss werden auf der Tenne Eier mit unterschied
 lichen Zutaten und Beilagen gebraten.\n\nUnkosten-Beitrag 5€\, Kinder bi
 s Ende Kita 0€.\n\nAnmeldungen bis zum 10. April unter\n\njugend@fsbhild
 esheim.de\n\nWir freuen uns\,\n\nPetra\nJugendwartin\n\n\n
CATEGORIES:Gelände,Jugend
LOCATION:FSB Hildesheim\, Rottsberg 1\, Hildesheim\, Niedersachsen\, 31139\
 , Deutschland
GEO:52.14286999999999;9.905330000000049
X-APPLE-STRUCTURED-LOCATION;VALUE=URI;X-ADDRESS=Rottsberg 1\, Hildesheim\, 
 Niedersachsen\, 31139\, Deutschland;X-APPLE-RADIUS=100;X-TITLE=FSB Hildesh
 eim:geo:52.14286999999999,9.905330000000049
END:VEVENT
BEGIN:VTIMEZONE
TZID:Europe/Berlin
X-LIC-LOCATION:Europe/Berlin
BEGIN:DAYLIGHT
DTSTART:20250330T030000
TZOFFSETFROM:+0100
TZOFFSETTO:+0200
TZNAME:CEST
END:DAYLIGHT
END:VTIMEZONE
END:VCALENDAR