BEGIN:VCALENDAR
VERSION:2.0
PRODID:-//wp-events-plugin.com//7.2.3.1//EN
TZID:Europe/Berlin
X-WR-TIMEZONE:Europe/Berlin
BEGIN:VEVENT
UID:309@fsbhildesheim.de
DTSTART;TZID=Europe/Berlin:20241026T000000
DTEND;TZID=Europe/Berlin:20241027T000000
DTSTAMP:20240820T170331Z
URL:https://www.fsbhildesheim.de/events/diesjaehrige-gaspruefungen-an-unse
 ren-wowas/
SUMMARY:Diesjährige Gasprüfungen an unseren WoWa's
DESCRIPTION:Liebe FSB'ler\,\n\nauch dieses Jahr stehen wieder die 2-jährig
 en Gasprüfungen an unseren Gasanlagen an. Wenn eure Anlagen in 2023 gepr
 üft wurden\, müssen erst nächstes Jahr ran.\n\nDieses Jahr wird Oli Sch
 midt von Camping Centrum Berenbostel zu folgenden Bedingungen unsere Gasan
 lagen prüfen und gegebenenfalls reparieren:\n\nFester Termin: Sa. 26. Okt
 ober 2024\n\nPrüfung kostet 30 € + 2 € für eine Plakette\n\nNeues Pr
 üfbuch\, falls erforderlich: 10 €\n\nGasflasche 11 kg: 25 €\nGasflasc
 he 5 kg: 15 €\n\nMeldet euch bitte mit Namen und Platznummer bei Gudrun 
 und Rudi Gläß (H3) für die Gasprüfung und Reparatur an.\n\nTel.: 0176 
 47626489\nMail: glaess.guru@gmail.com\n\nSportliche Grüße\,\nGudrun &amp
 \; Rudi
CATEGORIES:Gelände,Mitglieder
LOCATION:FSB Hildesheim\, Rottsberg 1\, Hildesheim\, Niedersachsen\, 31139\
 , Deutschland
GEO:52.14286999999999;9.905330000000049
X-APPLE-STRUCTURED-LOCATION;VALUE=URI;X-ADDRESS=Rottsberg 1\, Hildesheim\, 
 Niedersachsen\, 31139\, Deutschland;X-APPLE-RADIUS=100;X-TITLE=FSB Hildesh
 eim:geo:52.14286999999999,9.905330000000049
END:VEVENT
BEGIN:VTIMEZONE
TZID:Europe/Berlin
X-LIC-LOCATION:Europe/Berlin
BEGIN:DAYLIGHT
DTSTART:20240331T030000
TZOFFSETFROM:+0100
TZOFFSETTO:+0200
TZNAME:CEST
END:DAYLIGHT
END:VTIMEZONE
END:VCALENDAR