BEGIN:VCALENDAR
VERSION:2.0
PRODID:-//wp-events-plugin.com//7.2.3.1//EN
TZID:Europe/Berlin
X-WR-TIMEZONE:Europe/Berlin
BEGIN:VEVENT
UID:233@fsbhildesheim.de
DTSTART;TZID=Europe/Berlin:20210710T123000
DTEND;TZID=Europe/Berlin:20210710T133000
DTSTAMP:20210628T174325Z
URL:https://www.fsbhildesheim.de/events/die-bekanntgabe-des-namens-fuer-un
 seren-maeher-in-der-mittagspause-des-rottsbergturniers/
SUMMARY:Die Bekanntgabe des Namens für unseren Mäher in der Mittagspause 
 des Rottsbergturniers
DESCRIPTION:
CATEGORIES:Alle
END:VEVENT
BEGIN:VTIMEZONE
TZID:Europe/Berlin
X-LIC-LOCATION:Europe/Berlin
BEGIN:DAYLIGHT
DTSTART:20210328T030000
TZOFFSETFROM:+0100
TZOFFSETTO:+0200
TZNAME:CEST
END:DAYLIGHT
END:VTIMEZONE
END:VCALENDAR