BEGIN:VCALENDAR
VERSION:2.0
PRODID:-//wp-events-plugin.com//7.2.3.1//EN
TZID:Europe/Berlin
X-WR-TIMEZONE:Europe/Berlin
BEGIN:VEVENT
UID:237@fsbhildesheim.de
DTSTART;TZID=Europe/Berlin:20230122T100000
DTEND;TZID=Europe/Berlin:20230122T100000
DTSTAMP:20221102T172746Z
URL:https://www.fsbhildesheim.de/events/braunkohlwanderung-2023/
SUMMARY:Braunkohlwanderung 2023
DESCRIPTION:Ich möchte euch am 22.01.2023 eine Grünkohlwanderung anbieten
 . Die Wanderung soll vom Bahnhof Emmerke zum Gasthof Alt Rössing nach Rö
 ssing gehen\n\nIch habe schon mal 20 Personen pauschal angemeldet\, es dü
 rfen aber gerne auch mehr werden.\n\nWir würden am 22.01.2023 um 10 Uhr a
 m Hauptbahnhof in Emmerke starten\, sodass wir gegen 12 Uhr zum Essen im G
 asthof Alt Rössing ankommen würden\, hin und zurück sind etwa 14 Kilome
 ter zu bewältigen.\n\nMitglieder\, die nicht mehr so gut zu Fuß sind\, k
 önnen natürlich auch gerne mit dem Auto zum Gasthof Rössing kommen.\n\n
 Es wäre schön\, wenn ihr euch den Termin schon mal fest im Kalender eint
 ragen würdet.\n\nIm Dezember werde ich eine Liste in der Tenne aushängen
 \, ihr könnt mir aber auch gerne schreiben\, ob ihr dabei seid.\n\nEs ist
  aber wichtig zu wissen\, wer wandert und wer nur zum Essen kommt.\n\nGru
 ß Hellmut.
CATEGORIES:Wandern
END:VEVENT
BEGIN:VTIMEZONE
TZID:Europe/Berlin
X-LIC-LOCATION:Europe/Berlin
BEGIN:STANDARD
DTSTART:20221030T020000
TZOFFSETFROM:+0200
TZOFFSETTO:+0100
TZNAME:CET
END:STANDARD
END:VTIMEZONE
END:VCALENDAR