BEGIN:VCALENDAR
VERSION:2.0
PRODID:-//wp-events-plugin.com//7.2.3.1//EN
TZID:Europe/Berlin
X-WR-TIMEZONE:Europe/Berlin
BEGIN:VEVENT
UID:304@fsbhildesheim.de
DTSTART;TZID=Europe/Berlin:20240427T090000
DTEND;TZID=Europe/Berlin:20240427T090000
DTSTAMP:20240407T082945Z
URL:https://www.fsbhildesheim.de/events/arbeitseinsatz-am-27-april/
SUMMARY:Arbeitseinsatz am 27. April
DESCRIPTION:Schwimmbadputz (die „Putztruppe“) ist schon verabredet.\n\n
 Ich fand es ziemlich traurig\, wie wenige sich am Arbeitseinsatz am 23.3. 
 beteiligt haben. \n\nIch weise darauf hin: Es gibt viele Arbeiten\, die na
 ch Absprache mit mir eigenständig erledigt werden können\, z.B. ab Ende 
 Juni Heckenschnitt und ähnliches. Eigenständige Arbeiten sind fast immer
  möglich\, aber bitte bespricht das VORHER mit mir.  Es gibt die ganze S
 aison viel zu tun.  Also fragt nicht erst 2 Minuten bevor ihr losfahren w
 ollt\, was noch aussteht.\n\nWer sich nicht selbst kümmert\, seine Stunde
 n bis 30.09. zu erledigen oder so spät kommt\, dass für seine Fähigkeit
 en gerade nichts mehr da ist\, hat Pech gehabt – denn dann gibt es eine 
 Rechnung und keinen Übertrag.\n\nAlso kümmert Euch und sprecht mich konk
 ret an.\n\nGeländewart Lore\n\n Tel. 0157 5065 9589 (auch whatsapp)\,\n l
 orelessmann@t-online.de\,\n05121 82947 (AB – wir hören den immer ab) 
CATEGORIES:Alle
END:VEVENT
BEGIN:VTIMEZONE
TZID:Europe/Berlin
X-LIC-LOCATION:Europe/Berlin
BEGIN:DAYLIGHT
DTSTART:20240331T030000
TZOFFSETFROM:+0100
TZOFFSETTO:+0200
TZNAME:CEST
END:DAYLIGHT
END:VTIMEZONE
END:VCALENDAR