BEGIN:VCALENDAR
VERSION:2.0
PRODID:-//wp-events-plugin.com//7.2.3.1//EN
TZID:Europe/Berlin
X-WR-TIMEZONE:Europe/Berlin
BEGIN:VEVENT
UID:308@fsbhildesheim.de
DTSTART;TZID=Europe/Berlin;VALUE=DATE:20240907
DTEND;TZID=Europe/Berlin;VALUE=DATE:20240908
DTSTAMP:20240731T051200Z
URL:https://www.fsbhildesheim.de/events/arbeitseinsatz-17/
SUMMARY:Arbeitseinsatz
DESCRIPTION:
CATEGORIES:Gelände
LOCATION:FSB Hildesheim\, Rottsberg 1\, Hildesheim\, Niedersachsen\, 31139\
 , Deutschland
GEO:52.14286999999999;9.905330000000049
X-APPLE-STRUCTURED-LOCATION;VALUE=URI;X-ADDRESS=Rottsberg 1\, Hildesheim\, 
 Niedersachsen\, 31139\, Deutschland;X-APPLE-RADIUS=100;X-TITLE=FSB Hildesh
 eim:geo:52.14286999999999,9.905330000000049
END:VEVENT
BEGIN:VTIMEZONE
TZID:Europe/Berlin
X-LIC-LOCATION:Europe/Berlin
BEGIN:DAYLIGHT
DTSTART:20240331T030000
TZOFFSETFROM:+0100
TZOFFSETTO:+0200
TZNAME:CEST
END:DAYLIGHT
END:VTIMEZONE
END:VCALENDAR