BEGIN:VCALENDAR
VERSION:2.0
PRODID:-//wp-events-plugin.com//7.2.3.1//EN
TZID:Europe/Berlin
X-WR-TIMEZONE:Europe/Berlin
BEGIN:VEVENT
UID:294@fsbhildesheim.de
DTSTART;TZID=Europe/Berlin:20231118T090000
DTEND;TZID=Europe/Berlin:20231118T090000
DTSTAMP:20231102T133131Z
URL:https://www.fsbhildesheim.de/events/arbeitseinsatz-15/
SUMMARY:Arbeitseinsatz
DESCRIPTION:Liebe Mitglieder\,Arbeitseinsatz am 18.11.2023 ab 9.00 Uhr (neu
 es Arbeitsjahr!)(Wer zum Weihnachtsbasteln will\,  kann dann ja entsprech
 end früh aufhören) Wir wollen am Spielplatz\, Saunahof\, Petanquebereic
 h das Laub einsammeln\, damit es nicht alles im Schwimmbad landet und dort
  den Frühjahrsputz erschwert. Außerdem warten noch diverse öffentliche
  Hecken auf einen Rückschnitt. Dazu bitte evtl. vorhandene Akku-Heckensch
 eren mitbringen\, es kann aber auch die Benzin-Heckenschere des FSB genutz
 t werden. Diese Heckenschnitte können auch unabhängig vom Termin ausgef
 ührt werden\, dazu bitte Absprache mit mir. Ich bitte um Anmeldung\, dam
 it jeder sinnvoll eingesetzt werden kann.\n\nGrußLore
CATEGORIES:Gelände
LOCATION:FSB Hildesheim\, Rottsberg 1\, Hildesheim\, Niedersachsen\, 31139\
 , Deutschland
GEO:52.14286999999999;9.905330000000049
X-APPLE-STRUCTURED-LOCATION;VALUE=URI;X-ADDRESS=Rottsberg 1\, Hildesheim\, 
 Niedersachsen\, 31139\, Deutschland;X-APPLE-RADIUS=100;X-TITLE=FSB Hildesh
 eim:geo:52.14286999999999,9.905330000000049
END:VEVENT
BEGIN:VTIMEZONE
TZID:Europe/Berlin
X-LIC-LOCATION:Europe/Berlin
BEGIN:STANDARD
DTSTART:20231029T020000
TZOFFSETFROM:+0200
TZOFFSETTO:+0100
TZNAME:CET
END:STANDARD
END:VTIMEZONE
END:VCALENDAR