BEGIN:VCALENDAR
VERSION:2.0
PRODID:-//wp-events-plugin.com//7.2.3.1//EN
TZID:Europe/Berlin
X-WR-TIMEZONE:Europe/Berlin
BEGIN:VEVENT
UID:242@fsbhildesheim.de
DTSTART;TZID=Europe/Berlin:20221105T090000
DTEND;TZID=Europe/Berlin:20221105T150000
DTSTAMP:20221024T084134Z
URL:https://www.fsbhildesheim.de/events/arbeitseinsatz-10/
SUMMARY:Arbeitseinsatz
DESCRIPTION:Liebe Mitglieder\,\n\nWir wollen im Bereich des Spielplatzes un
 d des Saunahofes Laub einsammeln. Damit erleichtern wir enorm das Schwimmb
 ad putzen im Frühjahr.\n\nEs gibt aber auch noch einige andere Grünarbei
 ten\, u.a. vor unseren Toren außen die Waldreben etc. zurückdrängen.\n\
 nMittags gibt es Kartoffelsuppe aus der Gulaschkanone (übrig vom Petanque
 turnier im Sommer). Diese kostet 3 € ( + 1 € für ein zusätzliches W
 ürstchen).\n\nBitte meldet Euch unbedingt an\, sowohl für das Arbeiten a
 ls auch für die Suppe.\n\nDiese kann ggf. auch ohne vorheriges Arbeiten b
 estellt werden\, denn sie soll verbraucht werden.\n\nAnmeldung bei mir unt
 er 05121 82947 (AB bitte nutzen\, er beisst nicht)\, lorelessmann@t-online
 .de oder 0157 50659589 ( auch whatsapp)\n\nGruß Lore
CATEGORIES:Gelände
END:VEVENT
BEGIN:VTIMEZONE
TZID:Europe/Berlin
X-LIC-LOCATION:Europe/Berlin
BEGIN:STANDARD
DTSTART:20221030T020000
TZOFFSETFROM:+0200
TZOFFSETTO:+0100
TZNAME:CET
END:STANDARD
END:VTIMEZONE
END:VCALENDAR