BEGIN:VCALENDAR
VERSION:2.0
PRODID:-//wp-events-plugin.com//7.2.3.1//EN
TZID:Europe/Berlin
X-WR-TIMEZONE:Europe/Berlin
BEGIN:VEVENT
UID:240@fsbhildesheim.de
DTSTART;TZID=Europe/Berlin:20221203T150000
DTEND;TZID=Europe/Berlin:20221203T150000
DTSTAMP:20221018T071914Z
URL:https://www.fsbhildesheim.de/events/adventliches-kaffeetrinken/
SUMMARY:Adventliches Kaffeetrinken
DESCRIPTION:am Samstag\, den 03.12.2022 laden wir ein zum adventlichen Kaff
 eetrinken in die Tenne.\nBeginn ist um 15:00 Uhr.\n\nAnmeldung bitte über
  info@fsbhildesheim.de bis zum 25.11.2022. Es hängt auch eine Liste in de
 r Tenne.\nDa wir für die Kinder eine kleine Überraschung parat haben\, v
 ermerkt bitte auch die Anzahl der Kinder\, die mitkommen.\n\nFür die vorw
 eihnachtliche Ausgestaltung der Tenne benötigen wir eure Hilfe. Wer hat a
 m Samstag ab 13:30 Zeit und Muße\, mit uns die Tenne zu dekorieren? Auch 
 für das Aufräumen am Sonntagvormittag freuen wir uns auf eure Unterstüt
 zung. Ihr wisst ja\, gemeinsam geht alles schneller und es macht mehr Spa
 ß.\nBitte meldet euch ebenfalls per Mail: info@fsbhildesheim.de .\n\nIch 
 sage schon mal Danke\nund viele Grüße\nvom Harald\ni.A. Vorstand
CATEGORIES:Mitglieder
END:VEVENT
BEGIN:VTIMEZONE
TZID:Europe/Berlin
X-LIC-LOCATION:Europe/Berlin
BEGIN:STANDARD
DTSTART:20221030T020000
TZOFFSETFROM:+0200
TZOFFSETTO:+0100
TZNAME:CET
END:STANDARD
END:VTIMEZONE
END:VCALENDAR