BEGIN:VCALENDAR
VERSION:2.0
PRODID:-//wp-events-plugin.com//7.2.3.1//EN
TZID:Europe/Berlin
X-WR-TIMEZONE:Europe/Berlin
BEGIN:VEVENT
UID:311@fsbhildesheim.de
DTSTART;TZID=Europe/Berlin:20241207T140000
DTEND;TZID=Europe/Berlin:20241207T140000
DTSTAMP:20241120T070426Z
URL:https://www.fsbhildesheim.de/events/adventliches-kaffeetrinken-mit-int
 ernem-flohmarkt/
SUMMARY:Adventliches Kaffeetrinken mit internem Flohmarkt
DESCRIPTION:Sicher habt ihr es in den letzten Vereinsnachrichten schon gele
 sen und den Termin vorgemerkt.\n\nAm Samstag\, den 7. Dezember treffen wir
  uns zum adventlichen Kaffeetrinken in der Tenne.\n\nAb 14.00 Uhr findet e
 in Flohmarkt in der guten Stube statt. Käufer und Verkäufer sind herzlic
 h eingeladen. Da das Platzangebot begrenzt ist\, bitte nur kleinere Sachen
  mitbringen. Größere Dinge können per Foto vorgestellt werden.\n\nAb 15
 .00 Uhr wollen wir gemeinsam bei Kaffee\, Tee\, Keksen\, Plätzchen die be
 ginnende Weihnachtsstimmung genießen. Vielleicht gibt es ja auch jemanden
 \, der uns beim Singen etwas begleitet. Lasst uns bei schönen Gesprächen
  die Saison ausklingen.\n\nDie Tische werden geschmückt sein\, Kaffee\, T
 ee und andere Getränke stehen bereit. Kekse\, Plätzchen und ähnliches b
 ringen die Gäste mit. Möglicherweise hat der eine oder andere einen „Z
 auberbackofen“ daheim und überrascht mit Selbstgebackenem.
CATEGORIES:Mitglieder,Tenne
LOCATION:FSB Hildesheim\, Tenne\, \, 
X-APPLE-STRUCTURED-LOCATION;VALUE=URI;X-ADDRESS=\, ;X-APPLE-RADIUS=100;X-TI
 TLE=FSB Hildesheim\, Tenne:geo:0,0
END:VEVENT
BEGIN:VTIMEZONE
TZID:Europe/Berlin
X-LIC-LOCATION:Europe/Berlin
BEGIN:STANDARD
DTSTART:20241027T020000
TZOFFSETFROM:+0200
TZOFFSETTO:+0100
TZNAME:CET
END:STANDARD
END:VTIMEZONE
END:VCALENDAR