BEGIN:VCALENDAR
VERSION:2.0
PRODID:-//wp-events-plugin.com//7.2.3.1//EN
TZID:Europe/Berlin
X-WR-TIMEZONE:Europe/Berlin
BEGIN:VEVENT
UID:236@fsbhildesheim.de
DTSTART;TZID=Europe/Berlin;VALUE=DATE:20220716
DTEND;TZID=Europe/Berlin;VALUE=DATE:20220717
DTSTAMP:20220626T113830Z
URL:https://www.fsbhildesheim.de/events/9-rottsbergturnier/
SUMMARY:9. Rottsbergturnier
DESCRIPTION:Insgesamt gibt es 17 Doubletten.\n\nDafür kommen mindestens 18
  Personen von ersten Vereinen.\n\nDamit daraus ein schönes Wochenende fü
 r alle Beteiligten wird\, bitte ich um eure Hilfe.\n\nBitte überlegt scho
 n mal wo ihr euch zur Unterstützung einbringen möchtet.\n\nAm Dienstag\,
  den 28.06.\, hänge ich eine Liste im Eingangsbereich der Tenne aus\, in 
 der ihr euch eintragen könnt.\n\nMit freundlichen Grüßen\,\nDer Petanqu
 ewart
CATEGORIES:Pétanque
END:VEVENT
BEGIN:VTIMEZONE
TZID:Europe/Berlin
X-LIC-LOCATION:Europe/Berlin
BEGIN:DAYLIGHT
DTSTART:20220327T030000
TZOFFSETFROM:+0100
TZOFFSETTO:+0200
TZNAME:CEST
END:DAYLIGHT
END:VTIMEZONE
END:VCALENDAR