BEGIN:VCALENDAR
VERSION:2.0
PRODID:-//wp-events-plugin.com//7.2.3.1//EN
TZID:Europe/Berlin
X-WR-TIMEZONE:Europe/Berlin
BEGIN:VEVENT
UID:306@fsbhildesheim.de
DTSTART;TZID=Europe/Berlin;VALUE=DATE:20240928
DTEND;TZID=Europe/Berlin;VALUE=DATE:20240929
DTSTAMP:20240522T150708Z
URL:https://www.fsbhildesheim.de/events/4-offene-stadtmeisterschaft/
SUMMARY:4. offene Stadtmeisterschaft
DESCRIPTION:Liebe Petanque Freunde\,\n\nIhr seit herzlich zur 4. offenen St
 adtmeisterschaft Hildesheim am 28.09.2024 eingeladen.\nAnbei findet Ihr di
 e Ausschreibung mit weiteren Informationen zum Turnier.\nIhr dürft sie au
 ch gerne an Interessierte weiter geben.\n\nBitte meldet euch bis zum bis z
 um 16.09.2024 auf petanque@fsbhildesheim.de an.\n\nAusschreibung 4. Offene
  Stadtmeisterschaften\n\nWir freuen uns auf rege Teilnahme.\n\nMit sportli
 chen Grüßen\,\nDaniel Wohlers\n\nPetanque-Trio FSB Hildesheim
ATTACH;FMTTYPE=image/jpeg:https://www.fsbhildesheim.de/fsb2014/wp-content/
 uploads/2024/05/Plakat-Stadtmeisterschaft-24-scaled.jpg
CATEGORIES:Pétanque
LOCATION:FSB Hildesheim\, Rottsberg 1\, Hildesheim\, Niedersachsen\, 31139\
 , Deutschland
GEO:52.14286999999999;9.905330000000049
X-APPLE-STRUCTURED-LOCATION;VALUE=URI;X-ADDRESS=Rottsberg 1\, Hildesheim\, 
 Niedersachsen\, 31139\, Deutschland;X-APPLE-RADIUS=100;X-TITLE=FSB Hildesh
 eim:geo:52.14286999999999,9.905330000000049
END:VEVENT
BEGIN:VTIMEZONE
TZID:Europe/Berlin
X-LIC-LOCATION:Europe/Berlin
BEGIN:DAYLIGHT
DTSTART:20240331T030000
TZOFFSETFROM:+0100
TZOFFSETTO:+0200
TZNAME:CEST
END:DAYLIGHT
END:VTIMEZONE
END:VCALENDAR