BEGIN:VCALENDAR
VERSION:2.0
PRODID:-//wp-events-plugin.com//7.2.3.1//EN
TZID:Europe/Berlin
X-WR-TIMEZONE:Europe/Berlin
BEGIN:VEVENT
UID:235@fsbhildesheim.de
DTSTART;TZID=Europe/Berlin:20220924T083000
DTEND;TZID=Europe/Berlin:20220924T190000
DTSTAMP:20220810T101903Z
URL:https://www.fsbhildesheim.de/events/2-offene-stadtmeisterschaft-hildes
 heim/
SUMMARY:2. Offene Stadtmeisterschaft Hildesheim
DESCRIPTION:Schirmherr:\n\n 	Oberbürgermeister von Hildesheim\, Dr. Ingo M
 eyer\n\nTermin:\n\n 	ab 08:30 Uhr Bezahlung des Startgeldes\n 	09:15 Uhr B
 egrüßung\n 	09:30 Uhr Spielbeginn\n 	Ca. 18:00Uhr Siegerehrung\n\nMeldes
 chluss:\n\n 	12.09.2022\n 	Die Teilnehmerzahl ist auf 26 Doubletten begren
 zt.\n 	Die Zusage erfolgt nach der Reihenfolge der eingehenden Anmeldungen
 .\n 	Anmeldung nur per E-Mail: petanque@fsbhildesheim.de\n\nSpielmodus:\n\
 n 	Doublette - Gespielt wird nach Schweizer System ohne Buchholzpunkte.\n 
 	Es werden 4 Runden ohne Zeitlimit bei großer Teilnehmerzahl 5 Runden mit
  Zeitlimit gespielt.\n 	Gespielt wird nach den gültigen DPV-Regeln\n\nSta
 rtrecht:\n\n 	offen – alle Hildesheimer Bürger*innen\, Mitglieder in Sp
 ortvereinen des KSB Hildesheim\, Spieler*innen aus der Region Hildesheim\n
 \nStartgeld:\n\n 	10\,- € / Doublette\n\nSpielfelder:\n\n 	Petanqueplät
 ze und andere präparierte Plätze\n\nAuszeichnung:\n\n 	Urkunden für die
  Teilnehmenden\n 	Pokale für die Plätze 1-3\n 	sowie ein Wanderpokal fü
 r die Siegerdoublette\n\nVerpflegung:\n\n 	für Verpflegung sorgt der FSB 
 Hildesheim\n\nHaftung:\n\n 	Der Veranstalter übernimmt keinerlei Haftung 
 für Schadenfälle jeglicher Art.\n\nAllen Teilnehmenden wünschen wir ein
 e gute Anreise sowie einen schönen und erfolgreichen Spieltag beim FSB Hi
 ldesheim auf dem Rottsberg.
CATEGORIES:Pétanque
END:VEVENT
BEGIN:VTIMEZONE
TZID:Europe/Berlin
X-LIC-LOCATION:Europe/Berlin
BEGIN:DAYLIGHT
DTSTART:20220327T030000
TZOFFSETFROM:+0100
TZOFFSETTO:+0200
TZNAME:CEST
END:DAYLIGHT
END:VTIMEZONE
END:VCALENDAR